BEGIN:VCALENDAR
VERSION:2.0
PRODID:-//Musik auf der Höhe e.V. - ECPv6.15.15//NONSGML v1.0//EN
CALSCALE:GREGORIAN
METHOD:PUBLISH
X-WR-CALNAME:Musik auf der Höhe e.V.
X-ORIGINAL-URL:https://musikaufderhoehe.de
X-WR-CALDESC:Veranstaltungen für Musik auf der Höhe e.V.
REFRESH-INTERVAL;VALUE=DURATION:PT1H
X-Robots-Tag:noindex
X-PUBLISHED-TTL:PT1H
BEGIN:VTIMEZONE
TZID:Europe/Berlin
BEGIN:DAYLIGHT
TZOFFSETFROM:+0100
TZOFFSETTO:+0200
TZNAME:CEST
DTSTART:20250330T010000
END:DAYLIGHT
BEGIN:STANDARD
TZOFFSETFROM:+0200
TZOFFSETTO:+0100
TZNAME:CET
DTSTART:20251026T010000
END:STANDARD
BEGIN:DAYLIGHT
TZOFFSETFROM:+0100
TZOFFSETTO:+0200
TZNAME:CEST
DTSTART:20260329T010000
END:DAYLIGHT
BEGIN:STANDARD
TZOFFSETFROM:+0200
TZOFFSETTO:+0100
TZNAME:CET
DTSTART:20261025T010000
END:STANDARD
BEGIN:DAYLIGHT
TZOFFSETFROM:+0100
TZOFFSETTO:+0200
TZNAME:CEST
DTSTART:20270328T010000
END:DAYLIGHT
BEGIN:STANDARD
TZOFFSETFROM:+0200
TZOFFSETTO:+0100
TZNAME:CET
DTSTART:20271031T010000
END:STANDARD
END:VTIMEZONE
BEGIN:VEVENT
DTSTART;TZID=Europe/Berlin:20260605T190000
DTEND;TZID=Europe/Berlin:20260605T230000
DTSTAMP:20260421T145044
CREATED:20260206T103832Z
LAST-MODIFIED:20260331T214840Z
UID:624-1780686000-1780700400@musikaufderhoehe.de
SUMMARY:LJBO - Ach Herr mich armer Sünder
DESCRIPTION:Das Landes-Jugend-Barockorchester spielt Werke von Graupner\, Telemann und Händel. \nEintritt frei – Spenden willkommen!
URL:https://musikaufderhoehe.de/event/ljbo-ach-herr-mich-armer-suender/
LOCATION:Stiftskirche Stuttgart\, Werastraße 12\, Stuttgart\, Baden Württemberg\, 70182\, Germany
CATEGORIES:Konzert
ORGANIZER;CN="Musik auf der H%C3%B6he e.V.":MAILTO:info@musikaufderhoehe.de
END:VEVENT
BEGIN:VEVENT
DTSTART;TZID=Europe/Berlin:20260607T170000
DTEND;TZID=Europe/Berlin:20260607T200000
DTSTAMP:20260421T145044
CREATED:20260206T105652Z
LAST-MODIFIED:20260331T214820Z
UID:627-1780851600-1780862400@musikaufderhoehe.de
SUMMARY:LJBO - Ach Herr mich armer Sünder
DESCRIPTION:Das Landes Jugend Barockorchester spielt Werke von Graupner\, Telemann und Händel. \nEintritt frei – Spenden willkommen!
URL:https://musikaufderhoehe.de/event/ljbo-ach-herr-mich-armer-suender-2/
LOCATION:N. N
CATEGORIES:Konzert
ORGANIZER;CN="Musik auf der H%C3%B6he e.V.":MAILTO:info@musikaufderhoehe.de
END:VEVENT
END:VCALENDAR