BEGIN:VCALENDAR
VERSION:2.0
PRODID:-//Musik auf der Höhe e.V. - ECPv6.15.15//NONSGML v1.0//EN
CALSCALE:GREGORIAN
METHOD:PUBLISH
X-ORIGINAL-URL:https://musikaufderhoehe.de
X-WR-CALDESC:Veranstaltungen für Musik auf der Höhe e.V.
REFRESH-INTERVAL;VALUE=DURATION:PT1H
X-Robots-Tag:noindex
X-PUBLISHED-TTL:PT1H
BEGIN:VTIMEZONE
TZID:Europe/Berlin
BEGIN:DAYLIGHT
TZOFFSETFROM:+0100
TZOFFSETTO:+0200
TZNAME:CEST
DTSTART:20230326T010000
END:DAYLIGHT
BEGIN:STANDARD
TZOFFSETFROM:+0200
TZOFFSETTO:+0100
TZNAME:CET
DTSTART:20231029T010000
END:STANDARD
BEGIN:DAYLIGHT
TZOFFSETFROM:+0100
TZOFFSETTO:+0200
TZNAME:CEST
DTSTART:20240331T010000
END:DAYLIGHT
BEGIN:STANDARD
TZOFFSETFROM:+0200
TZOFFSETTO:+0100
TZNAME:CET
DTSTART:20241027T010000
END:STANDARD
BEGIN:DAYLIGHT
TZOFFSETFROM:+0100
TZOFFSETTO:+0200
TZNAME:CEST
DTSTART:20250330T010000
END:DAYLIGHT
BEGIN:STANDARD
TZOFFSETFROM:+0200
TZOFFSETTO:+0100
TZNAME:CET
DTSTART:20251026T010000
END:STANDARD
END:VTIMEZONE
BEGIN:VEVENT
DTSTART;TZID=Europe/Berlin:20241019T213000
DTEND;TZID=Europe/Berlin:20241020T000000
DTSTAMP:20260422T212444
CREATED:20240927T164835Z
LAST-MODIFIED:20240927T164835Z
UID:386-1729373400-1729382400@musikaufderhoehe.de
SUMMARY:Beethoven Plus
DESCRIPTION:QUARTETTO ALL‘ ALTEZZA\nGerd-Uwe Klein (Violine)\, Rahel Klein (Violoncello)\, Martina Bartsch (Violine)\, Michael Hanko (Viola) \nPROGRAMM:\nL. v. Beethoven op.59 Nr.1 F-Dur\nAllegro\nAllegretto vivace e sempre scherzando\nAdagio molto e mesto\nThème russe\, Allegro \nJ. Haydn op.17 Nr.4 c-moll Hob III:28\nModerato\nMenuett Allegretto\nAdagio Cantabile\nFinale Allegro \nF. Danzi op.44 Nr.2 c-moll\nAllegro molto\nLarghetto\nMenuetto Allegro – Trio\nAllegrett \nEintritt 18 €\, Mitglieder 15 €\, Familienkarte 35 €\, Schüler & Studierende 5 €
URL:https://musikaufderhoehe.de/event/beethoven-plus/
LOCATION:Hotel Therme Residenzsaal\, Otto-Neidhart-Allee 5\, Bad Teinach\, Baden-Württemberg\, 75385\, Deutschland
ATTACH;FMTTYPE=image/jpeg:https://musikaufderhoehe.de/wp-content/uploads/2024/09/konzert1024_web.jpg
ORGANIZER;CN="Musik auf der H%C3%B6he e.V.":MAILTO:info@musikaufderhoehe.de
END:VEVENT
END:VCALENDAR